BEGIN:VCALENDAR
VERSION:2.0
PRODID:-//Eastbay Lodge - ECPv6.15.20//NONSGML v1.0//EN
CALSCALE:GREGORIAN
METHOD:PUBLISH
X-ORIGINAL-URL:https://www.eastbayholcombe.com
X-WR-CALDESC:Events for Eastbay Lodge
REFRESH-INTERVAL;VALUE=DURATION:PT1H
X-Robots-Tag:noindex
X-PUBLISHED-TTL:PT1H
BEGIN:VTIMEZONE
TZID:America/Chicago
BEGIN:DAYLIGHT
TZOFFSETFROM:-0600
TZOFFSETTO:-0500
TZNAME:CDT
DTSTART:20240310T080000
END:DAYLIGHT
BEGIN:STANDARD
TZOFFSETFROM:-0500
TZOFFSETTO:-0600
TZNAME:CST
DTSTART:20241103T070000
END:STANDARD
BEGIN:DAYLIGHT
TZOFFSETFROM:-0600
TZOFFSETTO:-0500
TZNAME:CDT
DTSTART:20250309T080000
END:DAYLIGHT
BEGIN:STANDARD
TZOFFSETFROM:-0500
TZOFFSETTO:-0600
TZNAME:CST
DTSTART:20251102T070000
END:STANDARD
BEGIN:DAYLIGHT
TZOFFSETFROM:-0600
TZOFFSETTO:-0500
TZNAME:CDT
DTSTART:20260308T080000
END:DAYLIGHT
BEGIN:STANDARD
TZOFFSETFROM:-0500
TZOFFSETTO:-0600
TZNAME:CST
DTSTART:20261101T070000
END:STANDARD
END:VTIMEZONE
BEGIN:VEVENT
DTSTART;VALUE=DATE:20250505
DTEND;VALUE=DATE:20250512
DTSTAMP:20260425T075418
CREATED:20250506T021651Z
LAST-MODIFIED:20250506T021651Z
UID:10000119-1746403200-1747007999@www.eastbayholcombe.com
SUMMARY:This Week At Eastbay Lodge
DESCRIPTION:🌞 Weekly Lineup at Eastbay Lodge | May 5–11\, 2025\nIt’s the week where the weather’s 🔥\, the cocktails are cold\, and the lake is basically begging you to cancel your plans and head our way. Here’s what we’ve got in store: \n\n🍕 Weekly Specials (Served Wednesday–Sunday)\nPut your diet on pause—this week’s flavors are not messin’ around: \n🔥 Spicy Meat Lovers Pizza – $20.00Sausage\, Canadian bacon\, bacon\, pepperoni\, and a drizzle of hot honey.Like your pie crispy? Say the word. We’ll do it right. \n💸 Prime French Dip – $15.95Thin-sliced prime beef with grilled onions and Swiss cheese on toasted ciabatta. Served with fries and our house-made slaw.It’s hearty. It’s humble. And it hits the spot. \n\n🎶 Friday Night Live | Sidestreet Detour | 7–11 PM\nGet ready to move\, sway\, sing\, and maybe accidentally shout the lyrics—because Sidestreet Detour is bringing a setlist full of bangers to the deck. \n🎸 About the Band:Straight outta Duluth\, MN\, this powerhouse trio has rocked stages across the Midwest—from beer joints to festivals like The Festival by the Lake. Their show at Eastbay will serve up classic cover favorites from Fleetwood Mac\, Tom Petty\, Pink Floyd\, Elvis\, and Gordon Lightfoot (with a sprinkle of originals).The only thing louder than the guitar? The sound of your crew having a damn good time. \n\n🥩 Saturday = Prime Rib + Craft Cocktails\nIt’s Prime Rib Night\, and your weekend just got upgraded. \n🔥 Slow-roasted prime rib\, paired with your favorite sides.🍸 Craft cocktails flowing at the bar.🌅 The deck? Open and vibing. \nLet’s just say you won’t wanna miss what we’re cooking up—because we’re already drooling over it. \n\n💐 Mother’s Day at the Bay – Sunday\, May 11\nCelebrate the women who raised us\, fed us\, and told us when to knock it off. \n🌷 Buffet in the Dining Room: \n\n\nSOLD OUT (except a few spots left at 1:45 PM). Move quick. \n\n\n🍽️ First-Come Buffet Access: \n\n\nFrom 11 AM–3 PM in the sports bar and on the deck. \n\n\n🍔 Evening Eats: \n\n\nThe dining room rests\, but the sports bar and deck are fully open with our full menu from 3–10 PM. \n\n\n\n🎉 SUNDAY FUNDAY | 2–5 PM | Live on the Deck: The Teccas\nWe’re not bringing Sunday back—we’re taking it to a whole new level. \nThis week’s live act? The Teccas\, a nationally touring\, award-winning father-daughter country duo from Big Sky Country.Their harmonies are tight\, their stories are real\, and their energy is the kind that’ll have you ordering one more round and texting your boss\, “See you Tuesday.” \n🕑 2–5 PM on the deck.🌤️ Sunshine\, drinks\, and real-deal music.💬 Confirmation is here. You do NOT wanna miss this one. \n\n🌤️ Weather Forecast (Eau Claire\, WI)\n\n\nMon: Cloudy then clear – 75° / 44° \n\n\nTues: Sunny and warm – 81° / 49° \n\n\nWed: Mostly sunny – 71° / 39° \n\n\nThurs: Crisp and clear – 68° / 41° \n\n\nFri: Flawless – 78° / 52° \n\n\nSat: Made for rib night – 75° / 48° \n\n\nSun: Full-on patio weather – 79° / 56° \n\n\n\n📍 Eastbay LodgeServing up food\, music\, lake views\, and a full send into summer.Follow us on Facebook and Instagram so you never miss a vibe.
URL:https://www.eastbayholcombe.com/event/this-week-at-eastbay-lodge/
LOCATION:WI
CATEGORIES:Dining,Events Center,Indoor Concerts,Music,Sports Bar,Tiki Bar
ATTACH;FMTTYPE=image/png:https://www.eastbayholcombe.com/wp-content/uploads/2025/05/Happening-This-Week-Facebook-Post.png
END:VEVENT
END:VCALENDAR